View In:
ArcGIS JavaScript
ArcGIS Online Map Viewer
ArcGIS Earth
ArcGIS Pro
Service Description: La CVC ha creado un sitio interactivo y fácil de usar que reúne la información existente y más actualizada de la temática de erosión del suelo a escala 1:25.000. Aquí podrá realizar consultas por dos tipos de áreas geográficas determinadas del departamento del Valle del Cauca; la cuales son Cuenca hidrográfica y Municipio.
Map Name: Aplicativo Erosion del Suelo
Legend
All Layers and Tables
Dynamic Legend
Dynamic All Layers
Layers:
Description: La CVC ha creado un sitio interactivo y fácil de usar que reúne la información existente y más actualizada de la temática de erosión del suelo a escala 1:25.000. Aquí podrá realizar consultas por dos tipos de áreas geográficas determinadas del departamento del Valle del Cauca; la cuales son Cuenca hidrográfica y Municipio.
Service Item Id: 565d153036ba494cb4c41f5feae80a24
Copyright Text: CVC
Spatial Reference:
102100
(3857)
Single Fused Map Cache: true
Tile Info:
- Height: 256
- Width: 256
- DPI: 96
-
Levels of Detail: 24
-
Level ID: 1
[ Start Tile, End Tile ]
- Resolution: 78271.5169639999
- Scale: 2.95828763795777E8
-
Level ID: 2
[ Start Tile, End Tile ]
- Resolution: 39135.7584820001
- Scale: 1.47914381897889E8
-
Level ID: 3
[ Start Tile, End Tile ]
- Resolution: 19567.8792409999
- Scale: 7.3957190948944E7
-
Level ID: 4
[ Start Tile, End Tile ]
- Resolution: 9783.93962049996
- Scale: 3.6978595474472E7
-
Level ID: 5
[ Start Tile, End Tile ]
- Resolution: 4891.96981024998
- Scale: 1.8489297737236E7
- Format: PNG
- Compression Quality: 0.0
- Origin: X: -2.0037508342787E7
Y: 2.0037508342787E7
- Spatial Reference: 102100
(3857)
Storage Info:
- Storage Format: esriMapCacheStorageModeCompactV2
- Packet Size: 128
Initial Extent:
XMin: -8617929.240749637
YMin: 393108.9144481167
XMax: -8455980.492310723
YMax: 515023.52022796945
Spatial Reference: 102100
(3857)
Full Extent:
XMin: -8632921.25963865
YMin: 345525.33193121175
XMax: -8440937.18584624
YMax: 562687.5478508921
Spatial Reference: 102100
(3857)
Units: esriMeters
Supported Image Format Types: PNG32,PNG24,PNG,JPG,DIB,TIFF,EMF,PS,PDF,GIF,SVG,SVGZ,BMP
Document Info:
Title: Aplicativo Erosión del suelo en el Valle del Cauca
Author:
Comments: <DIV STYLE="text-align:Left;"><P><SPAN>La CVC ha creado un sitio interactivo y fácil de usar que reúne la información existente y más actualizada de la temática de erosión del suelo a escala 1:25.000. Aquí podrá realizar consultas por dos tipos de áreas geográficas determinadas del departamento del Valle del Cauca; la cuales son Cuenca hidrográfica y Municipio.</SPAN></P></DIV>
Subject: La CVC ha creado un sitio interactivo y fácil de usar que reúne la información existente y más actualizada de la temática de erosión del suelo a escala 1:25.000. Aquí podrá realizar consultas por dos tipos de áreas geográficas determinadas del departamento del Valle del Cauca; la cuales son Cuenca hidrográfica y Municipio.
Category:
Keywords: Erosión,degradación suelos,grado erosión,clases de erosión,Cárcava,Terraceo,Pata de vaca,Laminar Solifluxión,Sufusión,Valle del Cauca,Colombia,CVC.
AntialiasingMode: Fast
TextAntialiasingMode: Force
Supports Dynamic Layers: true
MaxRecordCount: 2000
MaxImageHeight: 4096
MaxImageWidth: 4096
Supported Query Formats: JSON, geoJSON, PBF
Supports Query Data Elements: true
Min Scale: 3.6978595474472E7
Max Scale: 2256.994353
Min LOD: 4
Max LOD: 18
Supports Datum Transformation: true
Child Resources:
Info
Dynamic Layer
Supported Operations:
Export Map
Identify
QueryLegends
QueryDomains
Find
Return Updates