View In:
ArcGIS JavaScript
ArcGIS Online Map Viewer
ArcGIS Earth
ArcGIS Pro
Service Description: El mapa de cobertura de bosque 2020 representa la distribución de áreas boscosas y no boscosas en el Valle del Cauca. Fue desarrollado utilizando imágenes satelitales de alta resolución (Sentinel-1 y Sentinel-2) y técnicas de clasificación supervisada mediante el algoritmo Random Forest, logrando una exactitud del 90,2%. Incluye una reclasificación para simplificar las categorías a bosque y no bosque, y la validación se realizó tanto en campo como con imágenes de alta resolución. Este mapa, generado a escala 1:25.000, constituye un insumo clave para estudios de conservación, planificación territorial y monitoreo ambiental.
Map Name: Areas Boscosas 2020
Legend
All Layers and Tables
Layers:
Description: El mapa de cobertura de bosque 2020 representa la distribución de áreas boscosas y no boscosas en el Valle del Cauca. Fue desarrollado utilizando imágenes satelitales de alta resolución (Sentinel-1 y Sentinel-2) y técnicas de clasificación supervisada mediante el algoritmo Random Forest, logrando una exactitud del 90,2%. Incluye una reclasificación para simplificar las categorías a bosque y no bosque, y la validación se realizó tanto en campo como con imágenes de alta resolución. Este mapa, generado a escala 1:25.000, constituye un insumo clave para estudios de conservación, planificación territorial y monitoreo ambiental.
Service Item Id: d219d6da0dbb476d836090591e8b08ea
Copyright Text: Elaborado en el marco del Convenio 027 de 2023 entre la Corporación Autónoma Regional del Valle del Cauca (CVC) y el Centro Internacional de Agricultura Tropical (CIAT).
Spatial Reference:
102100
(3857)
Single Fused Map Cache: true
Tile Info:
- Height: 256
- Width: 256
- DPI: 96
-
Levels of Detail: 24
-
Level ID: 1
[ Start Tile, End Tile ]
- Resolution: 78271.5169639999
- Scale: 2.95828763795777E8
-
Level ID: 2
[ Start Tile, End Tile ]
- Resolution: 39135.7584820001
- Scale: 1.47914381897889E8
-
Level ID: 3
[ Start Tile, End Tile ]
- Resolution: 19567.8792409999
- Scale: 7.3957190948944E7
-
Level ID: 4
[ Start Tile, End Tile ]
- Resolution: 9783.93962049996
- Scale: 3.6978595474472E7
-
Level ID: 5
[ Start Tile, End Tile ]
- Resolution: 4891.96981024998
- Scale: 1.8489297737236E7
- Format: PNG
- Compression Quality: 0.0
- Origin: X: -2.0037508342787E7
Y: 2.0037508342787E7
- Spatial Reference: 102100
(3857)
Storage Info:
- Storage Format: esriMapCacheStorageModeCompactV2
- Packet Size: 128
Initial Extent:
XMin: -8646815.53378031
YMin: 321619.9474071445
XMax: -8368152.890631419
YMax: 572912.6420900768
Spatial Reference: 102100
(3857)
Full Extent:
XMin: -8633951.76616112
YMin: 343859.4218950045
XMax: -8427136.615098398
YMax: 562788.7418394246
Spatial Reference: 102100
(3857)
Units: esriMeters
Supported Image Format Types: PNG32,PNG24,PNG,JPG,DIB,TIFF,EMF,PS,PDF,GIF,SVG,SVGZ,BMP
Document Info:
Title: Areas Boscosas 2020
Author:
Comments: <DIV STYLE="text-align:Left;font-size:12pt"><P><SPAN>El mapa de cobertura de bosque 2020 representa la distribución de áreas boscosas y no boscosas en el Valle del Cauca. Fue desarrollado utilizando imágenes satelitales de alta resolución (Sentinel-1 y Sentinel-2) y técnicas de clasificación supervisada mediante el algoritmo Random Forest, logrando una exactitud del 90,2%. Incluye una reclasificación para simplificar las categorías a bosque y no bosque, y la validación se realizó tanto en campo como con imágenes de alta resolución. Este mapa, generado a escala 1:25.000, constituye un insumo clave para estudios de conservación, planificación territorial y monitoreo ambiental.</SPAN></P></DIV>
Subject: El mapa de cobertura de bosque 2020 tiene como propósito identificar y representar espacialmente las áreas boscosas y no boscosas del departamento del Valle del Cauca. Este producto cartográfico es una herramienta fundamental para la gestión ambiental y la toma de decisones estratégicas en la región.
Category:
Keywords: Cobertura de bosque,no bosque,Valle del Cauca,Clasificación Supervisada,Sentinel-1,Sentinel-2,NDVI,Random Forest,mapa 2020,análisis geoespacial,gestión ambiental,biodiversidad,CVC
AntialiasingMode: Fast
TextAntialiasingMode: Force
Supports Dynamic Layers: false
MaxRecordCount: 2000
MaxImageHeight: 4096
MaxImageWidth: 4096
Supported Query Formats: JSON, geoJSON, PBF
Supports Query Data Elements: true
Min Scale: 9244648.868618
Max Scale: 4513.988705
Min LOD: 6
Max LOD: 17
Supports Datum Transformation: true
Child Resources:
Info
Supported Operations:
Export Map
Identify
QueryLegends
QueryDomains
Find
Return Updates