View In:
ArcGIS JavaScript
ArcGIS Online Map Viewer
ArcGIS Earth
ArcGIS Pro
Service Description: Las Curvas de Nivel son líneas imaginarias que unen puntos del terreno con la misma altura, respecto al nivel del mar.
Map Name: Curvas Nivel
Legend
All Layers and Tables
Dynamic Legend
Dynamic All Layers
Layers:
Tables:
Description: Las Curvas de Nivel son líneas imaginarias que unen puntos del terreno con la misma altura, respecto al nivel del mar.
Service Item Id: 5645702b820340769ff507ecb515f2de
Copyright Text: Convenio CRC - CVC 0292 del 2013 “Generar cartografía básica (escala 1:10.000), un modelo digital de terreno (MDT), un modelo digital de superficie (MDS) e imágenes de radar ortorectificadas a partir de datos obtenidos mediante un radar aerotransportado para diferentes cuencas del Valle del Cauca y del Cauca”.
Spatial Reference:
102100
(3857)
Single Fused Map Cache: true
Tile Info:
- Height: 256
- Width: 256
- DPI: 96
-
Levels of Detail: 24
-
Level ID: 1
[ Start Tile, End Tile ]
- Resolution: 78271.5169639999
- Scale: 2.95828763795777E8
-
Level ID: 2
[ Start Tile, End Tile ]
- Resolution: 39135.7584820001
- Scale: 1.47914381897889E8
-
Level ID: 3
[ Start Tile, End Tile ]
- Resolution: 19567.8792409999
- Scale: 7.3957190948944E7
-
Level ID: 4
[ Start Tile, End Tile ]
- Resolution: 9783.93962049996
- Scale: 3.6978595474472E7
-
Level ID: 5
[ Start Tile, End Tile ]
- Resolution: 4891.96981024998
- Scale: 1.8489297737236E7
- Format: PNG
- Compression Quality: 0.0
- Origin: X: -2.0037508342787E7
Y: 2.0037508342787E7
- Spatial Reference: 102100
(3857)
Storage Info:
- Storage Format: esriMapCacheStorageModeCompactV2
- Packet Size: 128
Initial Extent:
XMin: -8707470.891133035
YMin: 240721.19648484868
XMax: -8314488.557982945
YMax: 697493.7015265512
Spatial Reference: 102100
(3857)
Full Extent:
XMin: -8620275.581066884
YMin: 344050.3429099288
XMax: -8427146.942775689
YMax: 562303.2543919493
Spatial Reference: 102100
(3857)
Units: esriMeters
Supported Image Format Types: PNG32,PNG24,PNG,JPG,DIB,TIFF,EMF,PS,PDF,GIF,SVG,SVGZ,BMP
Document Info:
Title: Curvas de Nivel
Author:
Comments: <DIV STYLE="text-align:Left;font-size:12pt"><DIV><DIV><P><SPAN>Las Curvas de Nivel son líneas imaginarias que unen puntos del terreno con la misma altura, respecto al nivel del mar.</SPAN></P></DIV></DIV></DIV>
Subject: Contiene la capa de Curvas de Nivel del departamento del Valle del Cauca a escala 1:10.000.
Category:
Keywords: CVC,Valle del Cauca,Colombia,Cartografía Básica
AntialiasingMode: Fast
TextAntialiasingMode: Force
Supports Dynamic Layers: true
MaxRecordCount: 5000
MaxImageHeight: 4096
MaxImageWidth: 4096
Supported Query Formats: JSON, geoJSON, PBF
Supports Query Data Elements: true
Min Scale: 9244648.868618
Max Scale: 4513.988705
Min LOD: 6
Max LOD: 18
Supports Datum Transformation: true
Child Resources:
Info
Dynamic Layer
Supported Operations:
Export Map
Identify
QueryLegends
QueryDomains
Find
Return Updates