View In:
ArcGIS JavaScript
ArcGIS Online Map Viewer
ArcGIS Earth
ArcGIS Pro
Service Description:
Map Name: Red Hidrica
Legend
All Layers and Tables
Dynamic Legend
Dynamic All Layers
Layers:
Description: Servicio hidrográfico del Valle del Cauca, comprende los objetos geográficos naturales y artificiales de los cuales el agua en estado líquido es parte componente, así como otros asociados al medio marítimo, fluvial y lacustre.
Service Item Id: c29b72310d3b4e6dbf1fef3d48a42cc2
Copyright Text: CVC - IGAC
Spatial Reference:
102100
(3857)
Single Fused Map Cache: true
Tile Info:
- Height: 256
- Width: 256
- DPI: 96
-
Levels of Detail: 24
-
Level ID: 1
[ Start Tile, End Tile ]
- Resolution: 78271.5169639999
- Scale: 2.95828763795777E8
-
Level ID: 2
[ Start Tile, End Tile ]
- Resolution: 39135.7584820001
- Scale: 1.47914381897889E8
-
Level ID: 3
[ Start Tile, End Tile ]
- Resolution: 19567.8792409999
- Scale: 7.3957190948944E7
-
Level ID: 4
[ Start Tile, End Tile ]
- Resolution: 9783.93962049996
- Scale: 3.6978595474472E7
-
Level ID: 5
[ Start Tile, End Tile ]
- Resolution: 4891.96981024998
- Scale: 1.8489297737236E7
- Format: PNG
- Compression Quality: 0.0
- Origin: X: -2.0037508342787E7
Y: 2.0037508342787E7
- Spatial Reference: 102100
(3857)
Storage Info:
- Storage Format: esriMapCacheStorageModeCompactV2
- Packet Size: 128
Initial Extent:
XMin: -8691642.526628658
YMin: 209441.93216229603
XMax: -8371072.267817077
YMax: 696595.1526011853
Spatial Reference: 102100
(3857)
Full Extent:
XMin: -8633980.40992348
YMin: 343762.90629226423
XMax: -8427259.982920816
YMax: 561374.5043136842
Spatial Reference: 102100
(3857)
Units: esriMeters
Supported Image Format Types: PNG32,PNG24,PNG,JPG,DIB,TIFF,EMF,PS,PDF,GIF,SVG,SVGZ,BMP
Document Info:
Title: Red Hidrica
Author:
Comments: <DIV STYLE="text-align:Left;font-size:12pt"><DIV><P><SPAN>Servicio hidrográfico del Valle del Cauca, comprende los objetos geográficos naturales y artificiales de los cuales el agua en estado líquido es parte componente, así como otros asociados al medio marítimo, fluvial y lacustre. </SPAN></P></DIV></DIV>
Subject: Servicio hidrográfico del Valle del Cauca, comprende los objetos geográficos naturales y artificiales de los cuales el agua en estado líquido es parte componente, así como otros asociados al medio marítimo, fluvial y lacustre.
Category:
Keywords: CVC
AntialiasingMode: Fast
TextAntialiasingMode: Force
Supports Dynamic Layers: true
MaxRecordCount: 5000
MaxImageHeight: 4096
MaxImageWidth: 4096
Supported Query Formats: JSON, geoJSON, PBF
Supports Query Data Elements: true
Min Scale: 9244648.868618
Max Scale: 2256.994353
Min LOD: 6
Max LOD: 18
Supports Datum Transformation: true
Child Resources:
Info
Dynamic Layer
Supported Operations:
Export Map
Identify
QueryLegends
QueryDomains
Find
Return Updates