<?xml version="1.0" encoding="UTF-8" standalone="no"?>
<metadata xml:lang="en">
<Esri>
<CreaDate>20230811</CreaDate>
<CreaTime>14443700</CreaTime>
<ArcGISFormat>1.0</ArcGISFormat>
<SyncOnce>FALSE</SyncOnce>
<DataProperties>
<lineage>
<Process Date="20230811" Name="" Time="144437" ToolSource="c:\program files\arcgis\pro\Resources\ArcToolbox\toolboxes\Data Management Tools.tbx\CreateMosaicDataset" export="">CreateMosaicDataset \\GEO\Procesado\ImagenesP.gdb SIGLA_ZonaRuralCali PROJCS["MAGNA-SIRGAS_Origen-Nacional",GEOGCS["GCS_MAGNA",DATUM["D_MAGNA",SPHEROID["GRS_1980",6378137.0,298.257222101]],PRIMEM["Greenwich",0.0],UNIT["Degree",0.0174532925199433]],PROJECTION["Transverse_Mercator"],PARAMETER["False_Easting",5000000.0],PARAMETER["False_Northing",2000000.0],PARAMETER["Central_Meridian",-73.0],PARAMETER["Scale_Factor",0.9992],PARAMETER["Latitude_Of_Origin",4.0],UNIT["Meter",1.0]] # # None #</Process>
<Process Date="20230811" Name="" Time="160450" ToolSource="c:\program files\arcgis\pro\Resources\ArcToolbox\toolboxes\Data Management Tools.tbx\AddRastersToMosaicDataset" export="">AddRastersToMosaicDataset F:\Procesado\ImagenesP.gdb\SIGLA_ZonaRuralCali "Raster Dataset" F:\Procesado\Aerofotografia\Sigla_A6\A6_2022_00_00_1_MOSAICO_CORR_Cali.tif UPDATE_CELL_SIZES UPDATE_BOUNDARY NO_OVERVIEWS # 0 1500 # # SUBFOLDERS "Allow duplicates" NO_PYRAMIDS NO_STATISTICS NO_THUMBNAILS # NO_FORCE_SPATIAL_REFERENCE NO_STATISTICS # NO_PIXEL_CACHE C:\Users\Laura.Lopez\AppData\Local\ESRI\rasterproxies\SIGLA_ZonaRuralCali</Process>
</lineage>
<itemProps>
<itemName Sync="TRUE">SIGLA_ZonaRuralCali</itemName>
<itemLocation>
<linkage Sync="TRUE">file://\\GEO\Procesado\ImagenesP.gdb</linkage>
<protocol Sync="TRUE">Local Area Network</protocol>
</itemLocation>
<nativeExtBox>
<westBL Sync="TRUE">4597433.747427</westBL>
<eastBL Sync="TRUE">4615770.947427</eastBL>
<southBL Sync="TRUE">1920289.374925</southBL>
<northBL Sync="TRUE">1936181.614925</northBL>
<exTypeCode Sync="TRUE">1</exTypeCode>
</nativeExtBox>
<imsContentType export="False"/>
</itemProps>
<coordRef>
<type Sync="TRUE">Projected</type>
<geogcsn Sync="TRUE">GCS_MAGNA</geogcsn>
<csUnits Sync="TRUE">Linear Unit: Meter (1.000000)</csUnits>
<projcsn Sync="TRUE">MAGNA-SIRGAS_Origen-Nacional</projcsn>
<peXml Sync="TRUE">&lt;ProjectedCoordinateSystem xsi:type='typens:ProjectedCoordinateSystem' xmlns:xsi='http://www.w3.org/2001/XMLSchema-instance' xmlns:xs='http://www.w3.org/2001/XMLSchema' xmlns:typens='http://www.esri.com/schemas/ArcGIS/10.8'&gt;&lt;WKT&gt;PROJCS[&amp;quot;MAGNA-SIRGAS_Origen-Nacional&amp;quot;,GEOGCS[&amp;quot;GCS_MAGNA&amp;quot;,DATUM[&amp;quot;D_MAGNA&amp;quot;,SPHEROID[&amp;quot;GRS_1980&amp;quot;,6378137.0,298.257222101]],PRIMEM[&amp;quot;Greenwich&amp;quot;,0.0],UNIT[&amp;quot;Degree&amp;quot;,0.0174532925199433]],PROJECTION[&amp;quot;Transverse_Mercator&amp;quot;],PARAMETER[&amp;quot;False_Easting&amp;quot;,5000000.0],PARAMETER[&amp;quot;False_Northing&amp;quot;,2000000.0],PARAMETER[&amp;quot;Central_Meridian&amp;quot;,-73.0],PARAMETER[&amp;quot;Scale_Factor&amp;quot;,0.9992],PARAMETER[&amp;quot;Latitude_Of_Origin&amp;quot;,4.0],UNIT[&amp;quot;Meter&amp;quot;,1.0],AUTHORITY[&amp;quot;EPSG&amp;quot;,9377]]&lt;/WKT&gt;&lt;XOrigin&gt;-618700&lt;/XOrigin&gt;&lt;YOrigin&gt;-8436100&lt;/YOrigin&gt;&lt;XYScale&gt;450623577.52990448&lt;/XYScale&gt;&lt;ZOrigin&gt;-100000&lt;/ZOrigin&gt;&lt;ZScale&gt;10000&lt;/ZScale&gt;&lt;MOrigin&gt;-100000&lt;/MOrigin&gt;&lt;MScale&gt;10000&lt;/MScale&gt;&lt;XYTolerance&gt;0.001&lt;/XYTolerance&gt;&lt;ZTolerance&gt;0.001&lt;/ZTolerance&gt;&lt;MTolerance&gt;0.001&lt;/MTolerance&gt;&lt;HighPrecision&gt;true&lt;/HighPrecision&gt;&lt;WKID&gt;9377&lt;/WKID&gt;&lt;LatestWKID&gt;9377&lt;/LatestWKID&gt;&lt;/ProjectedCoordinateSystem&gt;</peXml>
</coordRef>
<RasterProperties>
<General>
<PixelDepth Sync="TRUE">8</PixelDepth>
<HasColormap Sync="TRUE">FALSE</HasColormap>
<CompressionType Sync="TRUE">None</CompressionType>
<NumBands Sync="TRUE">3</NumBands>
<Format Sync="TRUE">AMD</Format>
<HasPyramids Sync="TRUE">TRUE</HasPyramids>
<SourceType Sync="TRUE">continuous</SourceType>
<PixelType Sync="TRUE">unsigned integer</PixelType>
<NoDataValue Sync="TRUE"/>
</General>
<Properties>
<MaxImageHeight Sync="TRUE">4100</MaxImageHeight>
<MaxImageWidth Sync="TRUE">15000</MaxImageWidth>
<MaxRecordCount Sync="TRUE">1000</MaxRecordCount>
<MaxDownloadImageCount Sync="TRUE">20</MaxDownloadImageCount>
<MaxDownloadSizeLimit Sync="TRUE">2048</MaxDownloadSizeLimit>
<MaxMosaicImageCount Sync="TRUE">30</MaxMosaicImageCount>
<DefaultCompressionQuality Sync="TRUE">75</DefaultCompressionQuality>
<DefaultCompressionTolerance Sync="TRUE">0.01</DefaultCompressionTolerance>
<BlendWidth Sync="TRUE">10</BlendWidth>
<ViewpointSpacingX Sync="TRUE">600</ViewpointSpacingX>
<ViewpointSpacingY Sync="TRUE">300</ViewpointSpacingY>
<AllowedItemMetadata Sync="TRUE">Basic</AllowedItemMetadata>
<DefaultResamplingMethod Sync="TRUE">1</DefaultResamplingMethod>
<AllowedMosaicMethods Sync="TRUE">NorthWest,Center,LockRaster,ByAttribute,Nadir,Viewpoint,Seamline,None</AllowedMosaicMethods>
<AllowedCompressions Sync="TRUE">None,JPEG,LZ77,LERC</AllowedCompressions>
<AllowedMensurationCapabilities Sync="TRUE">Basic</AllowedMensurationCapabilities>
<AvailableMensurationCapabilities Sync="TRUE">None,Basic,Base-Top Height,Top-Top Shadow Height,Base-Top Shadow Height,3D</AvailableMensurationCapabilities>
<ClipToBoundary Sync="TRUE">-1</ClipToBoundary>
<FootprintMayContainNoData Sync="TRUE">-1</FootprintMayContainNoData>
<CellSizeTolerance Sync="TRUE">0.8</CellSizeTolerance>
<MinimumPixelContribution Sync="TRUE">1</MinimumPixelContribution>
<AvailableMosaicMethods Sync="TRUE">NorthWest,Center,LockRaster,ByAttribute,Nadir,Viewpoint,Seamline,None</AvailableMosaicMethods>
<AvailableCompressionMethods Sync="TRUE">None,JPEG,LZ77,LERC</AvailableCompressionMethods>
<AvailableItemMetadataLevels Sync="TRUE">None,Basic,Full</AvailableItemMetadataLevels>
<BandDefinitionKeyword Sync="TRUE">NONE</BandDefinitionKeyword>
<_docversion_ Sync="TRUE">10</_docversion_>
<AllowedFields Sync="TRUE">Name,MinPS,MaxPS,LowPS,HighPS,Tag,GroupName,ProductName,CenterX,CenterY,ZOrder,Shape_Length,Shape_Area</AllowedFields>
<MaxCellSize Sync="TRUE">4607.99999999998</MaxCellSize>
<LowCellSize Sync="TRUE">0.08</LowCellSize>
<HighCellSize Sync="TRUE">92.1599999999996</HighCellSize>
<PixelCacheLocation Sync="TRUE">C:\Users\Laura.Lopez\AppData\Local\ESRI\rasterproxies\SIGLA_ZonaRuralCali</PixelCacheLocation>
<ClipToFootprint Sync="TRUE">-1</ClipToFootprint>
<ApplyColorCorrection Sync="TRUE">0</ApplyColorCorrection>
<SortAscending Sync="TRUE">-1</SortAscending>
<MosaicOperator Sync="TRUE">1</MosaicOperator>
<UseTime Sync="TRUE">0</UseTime>
<DataType Sync="TRUE">Generic</DataType>
<AvailableFields Sync="TRUE">Name,MinPS,MaxPS,LowPS,HighPS,Tag,GroupName,ProductName,CenterX,CenterY,ZOrder,Shape_Length,Shape_Area</AvailableFields>
<SortableFields Sync="TRUE">MinPS,MaxPS,LowPS,HighPS,CenterX,CenterY,ZOrder,Shape_Length,Shape_Area</SortableFields>
<BlendWidthUnits Sync="TRUE">1</BlendWidthUnits>
<ClipOverviewsToFootprint Sync="TRUE">0</ClipOverviewsToFootprint>
<HasDodgingTable Sync="TRUE">0</HasDodgingTable>
<StartTimeFieldName Sync="TRUE"/>
<EndTimeFieldName Sync="TRUE"/>
<TimeValueFormat Sync="TRUE"/>
<UseRange Sync="TRUE">0</UseRange>
<TimeInterval Sync="TRUE"/>
<TimeIntervalUnits Sync="TRUE"/>
</Properties>
<Functions Sync="TRUE">
<Function Description="Performs on-the-fly mosaic on a raster catalog." Name="Mosaic Function"/>
</Functions>
</RasterProperties>
</DataProperties>
<SyncDate>20230906</SyncDate>
<SyncTime>11312300</SyncTime>
<ModDate>20230906</ModDate>
<ModTime>11312300</ModTime>
<scaleRange>
<minScale>150000000</minScale>
<maxScale>5000</maxScale>
</scaleRange>
<ArcGISProfile>ISO19139</ArcGISProfile>
</Esri>
<dataIdInfo>
<envirDesc Sync="TRUE"> Version 6.2 (Build 9200) ; Esri ArcGIS 10.9.1.28388</envirDesc>
<dataLang>
<languageCode Sync="TRUE" value="eng"/>
<countryCode Sync="TRUE" value="USA"/>
</dataLang>
<idCitation>
<resTitle Sync="FALSE">SIGLA_ZonaRuralCali</resTitle>
<presForm>
<PresFormCd Sync="TRUE" value="005"/>
</presForm>
<date>
<createDate>2023-08-08T00:00:00</createDate>
</date>
<citRespParty>
<rpIndName>Grupo Sistema Información Ambiental</rpIndName>
<rpOrgName>Corporación Autónoma Regional del Valle del Cauca-CVC</rpOrgName>
<rpPosName>Coordinador</rpPosName>
<role>
<RoleCd value="002"/>
</role>
<rpCntInfo>
<cntAddress addressType="physical">
<delPoint>Carrera 56 # 11-36</delPoint>
<city>Cali</city>
<adminArea>Valle del Cauca</adminArea>
<postCode>760033</postCode>
<eMailAdd>atencionalusuario@cvc.gov.co</eMailAdd>
<country>CO</country>
</cntAddress>
<cntPhone>
<voiceNum tddtty="">57(2)6206600</voiceNum>
<faxNum>57 (2)3396168</faxNum>
</cntPhone>
<cntHours>Atención de lunes a viernes de 8:00 a.m. a 12:30 p.m y 1:30 a 5:30 p.m.</cntHours>
<cntInstr>Para realizar consultas sobre el recurso comunique telefónicamente dentro del horario de atención establecido.</cntInstr>
</rpCntInfo>
</citRespParty>
</idCitation>
<spatRpType>
<SpatRepTypCd Sync="TRUE" value="002"/>
</spatRpType>
<dataExt>
<geoEle>
<GeoBndBox esriExtentType="search">
<exTypeCode Sync="TRUE">1</exTypeCode>
<westBL Sync="TRUE">-76.623190</westBL>
<eastBL Sync="TRUE">-76.457855</eastBL>
<northBL Sync="TRUE">3.416149</northBL>
<southBL Sync="TRUE">3.271993</southBL>
</GeoBndBox>
</geoEle>
<exDesc>Zona rural del municipio de Cali, Valle del Cauca</exDesc>
</dataExt>
<idPurp>Ortofotomosaico RGB que comprende el área geográfica determinada sobre zona de interes en la zona rural de Cali en el Departamento de Valle del Cauca, obtenido con vuelo combinado de cámara fotogramétrica de medioformato Phase One iXM-RS 150F de 80Mp y sistema LiDAR Riegl VQ 580ii de 550KHz. Resolución espacial de 8 cm.
Producto del Contrato CVC no. 672 de 2022. SISTEMAS DE INFORMACION GEOGRAFICA DE LATINOAMERICA-SIGLA SAS. “Realizar la restitución cartográfica en áreas priorizadas del municipio de Santiago de Cali como insumo para la actualización de la red hídrica”.</idPurp>
<idAbs>&lt;DIV STYLE="text-align:Left;"&gt;&lt;DIV&gt;&lt;DIV&gt;&lt;P&gt;&lt;SPAN&gt;O&lt;/SPAN&gt;&lt;SPAN&gt;rtofotomosaico &lt;/SPAN&gt;&lt;SPAN&gt;RGB &lt;/SPAN&gt;&lt;SPAN&gt;que comprende el área geográfica determinada sobre zona de interes &lt;/SPAN&gt;&lt;SPAN&gt;en la zona rural de Cali &lt;/SPAN&gt;&lt;SPAN&gt;en el Departamento de Valle del Cauca&lt;/SPAN&gt;&lt;SPAN&gt;, &lt;/SPAN&gt;&lt;SPAN&gt;obtenido con vuelo &lt;/SPAN&gt;&lt;SPAN&gt;combinado de cámara fotogramétrica de medio&lt;/SPAN&gt;&lt;SPAN /&gt;&lt;SPAN&gt;formato Phase One iXM-RS 150F de 80Mp y sistema LiDAR Riegl VQ 580ii de 550KHz&lt;/SPAN&gt;&lt;SPAN&gt;. &lt;/SPAN&gt;&lt;SPAN&gt;R&lt;/SPAN&gt;&lt;SPAN&gt;esolución espacial de 8 cm.&lt;/SPAN&gt;&lt;/P&gt;&lt;/DIV&gt;&lt;/DIV&gt;&lt;/DIV&gt;</idAbs>
<idCredit>SIGLA</idCredit>
<searchKeys>
<keyword>Cali</keyword>
<keyword>Valle del Cauca</keyword>
<keyword>CVC</keyword>
</searchKeys>
<dataChar>
<CharSetCd value="004"/>
</dataChar>
<idPoC>
<rpIndName>Grupo Sistema Información Ambiental</rpIndName>
<rpOrgName>Corporación Autónoma Regional del Valle del Cauca-CVC</rpOrgName>
<rpPosName>Coordinador</rpPosName>
<role>
<RoleCd value="002"/>
</role>
</idPoC>
<resMaint>
<maintFreq>
<MaintFreqCd value="009"/>
</maintFreq>
</resMaint>
<tpCat>
<TopicCatCd value="010"/>
</tpCat>
<resConst>
<Consts>
<useLimit/>
</Consts>
</resConst>
</dataIdInfo>
<mdLang>
<languageCode Sync="TRUE" value="eng"/>
<countryCode Sync="TRUE" value="USA"/>
</mdLang>
<refSysInfo>
<RefSystem dimension="">
<refSysID>
<identCode Sync="TRUE" code="9377"/>
<idCodeSpace Sync="TRUE">EPSG</idCodeSpace>
<idVersion Sync="TRUE">9.8.12(12.8.0)</idVersion>
</refSysID>
</RefSystem>
</refSysInfo>
<spatRepInfo>
<Georect>
<cellGeo>
<CellGeoCd Sync="TRUE" value="002"/>
</cellGeo>
<numDims Sync="TRUE">2</numDims>
<tranParaAv Sync="TRUE">1</tranParaAv>
<chkPtAv Sync="TRUE">0</chkPtAv>
<cornerPts>
<pos Sync="TRUE">4597433.747427 1920289.374925</pos>
</cornerPts>
<cornerPts>
<pos Sync="TRUE">4597433.747427 1936181.614925</pos>
</cornerPts>
<cornerPts>
<pos Sync="TRUE">4615770.947427 1936181.614925</pos>
</cornerPts>
<cornerPts>
<pos Sync="TRUE">4615770.947427 1920289.374925</pos>
</cornerPts>
<centerPt>
<pos Sync="TRUE">4606602.347427 1928235.494925</pos>
</centerPt>
<axisDimension type="002">
<dimSize Sync="TRUE">229215</dimSize>
<dimResol>
<value Sync="TRUE" uom="m">0.080000</value>
</dimResol>
</axisDimension>
<axisDimension type="001">
<dimSize Sync="TRUE">198653</dimSize>
<dimResol>
<value Sync="TRUE" uom="m">0.080000</value>
</dimResol>
</axisDimension>
<ptInPixel>
<PixOrientCd Sync="TRUE" value="001"/>
</ptInPixel>
</Georect>
</spatRepInfo>
<contInfo>
<ImgDesc>
<contentTyp>
<ContentTypCd Sync="TRUE" value="001"/>
</contentTyp>
<covDim>
<Band>
<dimDescrp Sync="TRUE">Band_1</dimDescrp>
<maxVal Sync="TRUE">255.000000</maxVal>
<minVal Sync="TRUE">0.000000</minVal>
<bitsPerVal Sync="TRUE">8</bitsPerVal>
<valUnit>
<UOM type="length"/>
</valUnit>
</Band>
<Band>
<dimDescrp Sync="TRUE">Band_2</dimDescrp>
<maxVal Sync="TRUE">255.000000</maxVal>
<minVal Sync="TRUE">0.000000</minVal>
<bitsPerVal Sync="TRUE">8</bitsPerVal>
<valUnit>
<UOM type="length"/>
</valUnit>
</Band>
<Band>
<dimDescrp Sync="TRUE">Band_3</dimDescrp>
<maxVal Sync="TRUE">255.000000</maxVal>
<minVal Sync="TRUE">0.000000</minVal>
<bitsPerVal Sync="TRUE">8</bitsPerVal>
<valUnit>
<UOM type="length"/>
</valUnit>
</Band>
</covDim>
</ImgDesc>
</contInfo>
<mdDateSt Sync="TRUE">20230906</mdDateSt>
<mdHrLv>
<ScopeCd value="005"/>
</mdHrLv>
<mdFileID>AD454FAE-4395-4F76-B4D9-51D9C4BD05ED</mdFileID>
<mdParentID>No aplica</mdParentID>
<mdChar>
<CharSetCd value="004"/>
</mdChar>
<dataSetURI>No aplica</dataSetURI>
<mdContact>
<rpIndName>Grupo Sistema Información Ambiental</rpIndName>
<rpOrgName>Corporación Autónoma Regional del Valle del Cauca-CVC</rpOrgName>
<rpPosName>Coordinador</rpPosName>
<role>
<RoleCd value="002"/>
</role>
<rpCntInfo>
<cntAddress addressType="physical">
<delPoint>Carrera 56 # 11-36</delPoint>
<city>Cali</city>
<adminArea>Valle del Cauca</adminArea>
<postCode>760033</postCode>
<eMailAdd>atencionalusuario@cvc.gov.co</eMailAdd>
<country>CO</country>
</cntAddress>
<cntPhone>
<voiceNum tddtty="">57(2)6206600</voiceNum>
<faxNum>57 (2)3396168</faxNum>
</cntPhone>
<cntHours>Atención de lunes a viernes de 8:00 a.m. a 12:30 p.m y 1:30 a 5:30 p.m.</cntHours>
<cntInstr>Para realizar consultas sobre el recurso comunique telefónicamente dentro del horario de atención establecido.</cntInstr>
</rpCntInfo>
<displayName>Grupo Sistema Información Ambiental</displayName>
</mdContact>
<mdMaint>
<maintFreq>
<MaintFreqCd value="009"/>
</maintFreq>
</mdMaint>
<dqInfo>
<dqScope>
<scpLvl>
<ScopeCd value="005"/>
</scpLvl>
</dqScope>
<dataLineage>
<statement>Ortofotomosaico, SIGLA SAS</statement>
</dataLineage>
</dqInfo>
</metadata>
