<?xml version="1.0" encoding="UTF-8" standalone="no"?>
<metadata xml:lang="en">
<Esri>
<CreaDate>20230908</CreaDate>
<CreaTime>10464100</CreaTime>
<ArcGISFormat>1.0</ArcGISFormat>
<SyncOnce>FALSE</SyncOnce>
<DataProperties>
<lineage>
<Process Date="20230908" Name="" Time="104641" ToolSource="c:\program files\arcgis\pro\Resources\ArcToolbox\toolboxes\Data Management Tools.tbx\CreateMosaicDataset" export="">CreateMosaicDataset \\GEO\Procesado\ImagenesP.gdb MDS_1m PROJCS["MAGNA_Colombia_Oeste",GEOGCS["GCS_MAGNA",DATUM["D_MAGNA",SPHEROID["GRS_1980",6378137.0,298.257222101]],PRIMEM["Greenwich",0.0],UNIT["Degree",0.0174532925199433]],PROJECTION["Transverse_Mercator"],PARAMETER["False_Easting",1000000.0],PARAMETER["False_Northing",1000000.0],PARAMETER["Central_Meridian",-77.07750791666666],PARAMETER["Scale_Factor",1.0],PARAMETER["Latitude_Of_Origin",4.596200416666666],UNIT["Meter",1.0]] # # None #</Process>
<Process Date="20230911" Name="" Time="121012" ToolSource="c:\program files\arcgis\pro\Resources\ArcToolbox\toolboxes\Data Management Tools.tbx\AddRastersToMosaicDataset" export="">AddRastersToMosaicDataset \\GEO\Procesado\ImagenesP.gdb\MDS_1m "Raster Dataset" \\GEO\Procesado\MDSs\INCIGE\MDS_2020-00-00_CORR_Alban.tif;\\GEO\Procesado\MDSs\INCIGE\MDS_2020-00-00_CORR_Barragan.tif;\\GEO\Procesado\MDSs\INCIGE\MDS_2020-00-00_CORR_Betania.tif;\\GEO\Procesado\MDSs\INCIGE\MDS_2020-00-00_CORR_Bitaco.tif;\\GEO\Procesado\MDSs\INCIGE\MDS_2020-00-00_CORR_BorreroAyerbe.tif;\\GEO\Procesado\MDSs\INCIGE\MDS_2020-00-00_CORR_Cisneros.tif;\\GEO\Procesado\MDSs\INCIGE\MDS_2020-00-00_CORR_ElBasal.tif;\\GEO\Procesado\MDSs\INCIGE\MDS_2020-00-00_CORR_ElCarmen.tif;\\GEO\Procesado\MDSs\INCIGE\MDS_2020-00-00_CORR_ElRaizal.tif;\\GEO\Procesado\MDSs\INCIGE\MDS_2020-00-00_CORR_LaAurora.tif;\\GEO\Procesado\MDSs\INCIGE\MDS_2020-00-00_CORR_LaFlorida.tif;\\GEO\Procesado\MDSs\INCIGE\MDS_2020-00-00_CORR_LaPradera.tif;\\GEO\Procesado\MDSs\INCIGE\MDS_2020-00-00_CORR_LaPrimavera.tif;\\GEO\Procesado\MDSs\INCIGE\MDS_2020-00-00_CORR_LaTulia.tif;\\GEO\Procesado\MDSs\INCIGE\MDS_2020-00-00_CORR_Lituania.tif;\\GEO\Procesado\MDSs\INCIGE\MDS_2020-00-00_CORR_Loboguerrero.tif;\\GEO\Procesado\MDSs\INCIGE\MDS_2020-00-00_CORR_Naranjal.tif;\\GEO\Procesado\MDSs\INCIGE\MDS_2020-00-00_CORR_Pavas.tif;\\GEO\Procesado\MDSs\INCIGE\MDS_2020-00-00_CORR_PuebloNuevo.tif;\\GEO\Procesado\MDSs\INCIGE\MDS_2020-00-00_CORR_PuertoMerizalde.tif;\\GEO\Procesado\MDSs\INCIGE\MDS_2020-00-00_CORR_Queremal.tif;\\GEO\Procesado\MDSs\INCIGE\MDS_2020-00-00_CORR_SanBernardo.tif;\\GEO\Procesado\MDSs\INCIGE\MDS_2020-00-00_CORR_SanPedro.tif;\\GEO\Procesado\MDSs\INCIGE\MDS_2020-00-00_CORR_SantaLucia.tif;\\GEO\Procesado\MDSs\INCIGE\MDS_2020-00-00_CORR_Tenerife.tif;\\GEO\Procesado\MDSs\INCIGE\MDS_2020-00-00_MUN_Argelia.tif;\\GEO\Procesado\MDSs\INCIGE\MDS_2020-00-00_MUN_Calima.tif;\\GEO\Procesado\MDSs\INCIGE\MDS_2020-00-00_MUN_Cartago.tif;\\GEO\Procesado\MDSs\INCIGE\MDS_2020-00-00_MUN_Dagua.tif;\\GEO\Procesado\MDSs\INCIGE\MDS_2020-00-00_MUN_ElCairo.tif;\\GEO\Procesado\MDSs\INCIGE\MDS_2020-00-00_MUN_ElDovio.tif;\\GEO\Procesado\MDSs\INCIGE\MDS_2020-00-00_MUN_Florida.tif;\\GEO\Procesado\MDSs\INCIGE\MDS_2020-00-00_MUN_GuadalajaraDeBuga.tif;\\GEO\Procesado\MDSs\INCIGE\MDS_2020-00-00_MUN_Palmira.tif;\\GEO\Procesado\MDSs\INCIGE\MDS_2020-00-00_MUN_Pradera.tif;\\GEO\Procesado\MDSs\INCIGE\MDS_2020-00-00_MUN_Versalles.tif;\\GEO\Procesado\MDSs\INCIGE\MDS_2020-00-00_MUN_Yumbo.tif;\\GEO\Procesado\MDSs\INGEOVISTA\MDS_2012-00-00_CORREDOR_CAUCA1.tif;\\GEO\Procesado\MDSs\INGEOVISTA\MDS_2012-00-00_CORREDOR_CAUCA2.tif;\\GEO\Procesado\MDSs\INGEOVISTA\MDS_2012-00-00_CORREDOR_CAUCA3.tif;\\GEO\Procesado\MDSs\INGEOVISTA\MDS_2012-00-00_CORREDOR_CAUCA4.tif;\\GEO\Procesado\MDSs\INGEOVISTA\MDS_2012-00-00_CORREDOR_CAUCA5.tif;\\GEO\Procesado\MDSs\INGEOVISTA\MDS_2012-00-00_MUN_Alcala.tif;\\GEO\Procesado\MDSs\INGEOVISTA\MDS_2012-00-00_MUN_Andalucia.tif;\\GEO\Procesado\MDSs\INGEOVISTA\MDS_2012-00-00_MUN_Ansermanuevo.img;\\GEO\Procesado\MDSs\INGEOVISTA\MDS_2012-00-00_MUN_Argelia.img;\\GEO\Procesado\MDSs\INGEOVISTA\MDS_2012-00-00_MUN_Bolivar.img;\\GEO\Procesado\MDSs\INGEOVISTA\MDS_2012-00-00_MUN_Bugalagrande.img;\\GEO\Procesado\MDSs\INGEOVISTA\MDS_2012-00-00_MUN_Caicedonia.img;\\GEO\Procesado\MDSs\INGEOVISTA\MDS_2012-00-00_MUN_Candelaria.tif;\\GEO\Procesado\MDSs\INGEOVISTA\MDS_2012-00-00_MUN_Darien.img;\\GEO\Procesado\MDSs\INGEOVISTA\MDS_2012-00-00_MUN_ElAguila.img;\\GEO\Procesado\MDSs\INGEOVISTA\MDS_2012-00-00_MUN_ElCerrito.tif;\\GEO\Procesado\MDSs\INGEOVISTA\MDS_2012-00-00_MUN_ElDovio.tif;\\GEO\Procesado\MDSs\INGEOVISTA\MDS_2012-00-00_MUN_Ginebra.img;\\GEO\Procesado\MDSs\INGEOVISTA\MDS_2012-00-00_MUN_Guacari.img;\\GEO\Procesado\MDSs\INGEOVISTA\MDS_2012-00-00_MUN_Jamundi.img;\\GEO\Procesado\MDSs\INGEOVISTA\MDS_2012-00-00_MUN_LaCumbre.img;\\GEO\Procesado\MDSs\INGEOVISTA\MDS_2012-00-00_MUN_LaUnion.img;\\GEO\Procesado\MDSs\INGEOVISTA\MDS_2012-00-00_MUN_LaVictoria.img;\\GEO\Procesado\MDSs\INGEOVISTA\MDS_2012-00-00_MUN_Obando.img;\\GEO\Procesado\MDSs\INGEOVISTA\MDS_2012-00-00_MUN_Restrepo.img;\\GEO\Procesado\MDSs\INGEOVISTA\MDS_2012-00-00_MUN_Riofrio.img;\\GEO\Procesado\MDSs\INGEOVISTA\MDS_2012-00-00_MUN_Roldanillo.img;\\GEO\Procesado\MDSs\INGEOVISTA\MDS_2012-00-00_MUN_Sevilla.img;\\GEO\Procesado\MDSs\INGEOVISTA\MDS_2012-00-00_MUN_Toro.img;\\GEO\Procesado\MDSs\INGEOVISTA\MDS_2012-00-00_MUN_Trujillo.tif;\\GEO\Procesado\MDSs\INGEOVISTA\MDS_2012-00-00_MUN_Tulua.img;\\GEO\Procesado\MDSs\INGEOVISTA\MDS_2012-00-00_MUN_Ulloa.tif;\\GEO\Procesado\MDSs\INGEOVISTA\MDS_2012-00-00_MUN_Vijes.img;\\GEO\Procesado\MDSs\INGEOVISTA\MDS_2012-00-00_MUN_Yotoco.img;\\GEO\Procesado\MDSs\INGEOVISTA\MDS_2012-00-00_MUN_Zarzal.img;\\GEO\Procesado\MDSs\SIGLA\MDS_2022_00_00_CORR_Cali.tif UPDATE_CELL_SIZES UPDATE_BOUNDARY NO_OVERVIEWS # 0 1500 # # SUBFOLDERS "Allow duplicates" BUILD_PYRAMIDS CALCULATE_STATISTICS NO_THUMBNAILS # NO_FORCE_SPATIAL_REFERENCE ESTIMATE_STATISTICS # NO_PIXEL_CACHE C:\Users\Laura.Lopez\AppData\Local\ESRI\rasterproxies\MDS_1m</Process>
<Process Date="20230912" Name="" Time="100918" ToolSource="c:\program files\arcgis\pro\Resources\ArcToolbox\toolboxes\Data Management Tools.tbx\BuildPyramidsandStatistics" export="">BuildPyramidsandStatistics \\GEO\Procesado\ImagenesP.gdb\MDS_1m INCLUDE_SUBDIRECTORIES BUILD_PYRAMIDS CALCULATE_STATISTICS NONE # NONE 1 1 # -1 NONE "Nearest neighbor" Default 75 SKIP_EXISTING # NONE</Process>
</lineage>
<itemProps>
<itemName Sync="TRUE">MDS_1m</itemName>
<itemLocation>
<linkage Sync="TRUE">file://\\GEO\Procesado\ImagenesP.gdb</linkage>
<protocol Sync="TRUE">Local Area Network</protocol>
</itemLocation>
<nativeExtBox>
<westBL Sync="TRUE">961290.100000</westBL>
<eastBL Sync="TRUE">1149786.300000</eastBL>
<southBL Sync="TRUE">796960.700000</southBL>
<northBL Sync="TRUE">1036457.300000</northBL>
<exTypeCode Sync="TRUE">1</exTypeCode>
</nativeExtBox>
<imsContentType export="False"/>
</itemProps>
<coordRef>
<type Sync="TRUE">Projected</type>
<geogcsn Sync="TRUE">GCS_MAGNA</geogcsn>
<csUnits Sync="TRUE">Linear Unit: Meter (1.000000)</csUnits>
<projcsn Sync="TRUE">MAGNA_Colombia_Oeste</projcsn>
<peXml Sync="TRUE">&lt;ProjectedCoordinateSystem xsi:type='typens:ProjectedCoordinateSystem' xmlns:xsi='http://www.w3.org/2001/XMLSchema-instance' xmlns:xs='http://www.w3.org/2001/XMLSchema' xmlns:typens='http://www.esri.com/schemas/ArcGIS/10.8'&gt;&lt;WKT&gt;PROJCS[&amp;quot;MAGNA_Colombia_Oeste&amp;quot;,GEOGCS[&amp;quot;GCS_MAGNA&amp;quot;,DATUM[&amp;quot;D_MAGNA&amp;quot;,SPHEROID[&amp;quot;GRS_1980&amp;quot;,6378137.0,298.257222101]],PRIMEM[&amp;quot;Greenwich&amp;quot;,0.0],UNIT[&amp;quot;Degree&amp;quot;,0.0174532925199433]],PROJECTION[&amp;quot;Transverse_Mercator&amp;quot;],PARAMETER[&amp;quot;False_Easting&amp;quot;,1000000.0],PARAMETER[&amp;quot;False_Northing&amp;quot;,1000000.0],PARAMETER[&amp;quot;Central_Meridian&amp;quot;,-77.07750791666666],PARAMETER[&amp;quot;Scale_Factor&amp;quot;,1.0],PARAMETER[&amp;quot;Latitude_Of_Origin&amp;quot;,4.596200416666666],UNIT[&amp;quot;Meter&amp;quot;,1.0],AUTHORITY[&amp;quot;EPSG&amp;quot;,3115]]&lt;/WKT&gt;&lt;XOrigin&gt;-4623200&lt;/XOrigin&gt;&lt;YOrigin&gt;-9510300&lt;/YOrigin&gt;&lt;XYScale&gt;450265407.00157917&lt;/XYScale&gt;&lt;ZOrigin&gt;-100000&lt;/ZOrigin&gt;&lt;ZScale&gt;10000&lt;/ZScale&gt;&lt;MOrigin&gt;-100000&lt;/MOrigin&gt;&lt;MScale&gt;10000&lt;/MScale&gt;&lt;XYTolerance&gt;0.001&lt;/XYTolerance&gt;&lt;ZTolerance&gt;0.001&lt;/ZTolerance&gt;&lt;MTolerance&gt;0.001&lt;/MTolerance&gt;&lt;HighPrecision&gt;true&lt;/HighPrecision&gt;&lt;WKID&gt;3115&lt;/WKID&gt;&lt;LatestWKID&gt;3115&lt;/LatestWKID&gt;&lt;/ProjectedCoordinateSystem&gt;</peXml>
</coordRef>
<RasterProperties>
<General>
<PixelDepth Sync="TRUE">32</PixelDepth>
<HasColormap Sync="TRUE">FALSE</HasColormap>
<CompressionType Sync="TRUE">None</CompressionType>
<NumBands Sync="TRUE">1</NumBands>
<Format Sync="TRUE">AMD</Format>
<HasPyramids Sync="TRUE">TRUE</HasPyramids>
<SourceType Sync="TRUE">continuous</SourceType>
<PixelType Sync="TRUE">floating point</PixelType>
<NoDataValue Sync="TRUE"/>
</General>
<Properties>
<MaxImageHeight Sync="TRUE">4100</MaxImageHeight>
<MaxImageWidth Sync="TRUE">15000</MaxImageWidth>
<MaxRecordCount Sync="TRUE">1000</MaxRecordCount>
<MaxDownloadImageCount Sync="TRUE">20</MaxDownloadImageCount>
<MaxDownloadSizeLimit Sync="TRUE">2048</MaxDownloadSizeLimit>
<MaxMosaicImageCount Sync="TRUE">20</MaxMosaicImageCount>
<DefaultCompressionQuality Sync="TRUE">75</DefaultCompressionQuality>
<DefaultCompressionTolerance Sync="TRUE">0.01</DefaultCompressionTolerance>
<BlendWidth Sync="TRUE">10</BlendWidth>
<ViewpointSpacingX Sync="TRUE">600</ViewpointSpacingX>
<ViewpointSpacingY Sync="TRUE">300</ViewpointSpacingY>
<AllowedItemMetadata Sync="TRUE">Basic</AllowedItemMetadata>
<DefaultResamplingMethod Sync="TRUE">1</DefaultResamplingMethod>
<AllowedMosaicMethods Sync="TRUE">NorthWest,Center,LockRaster,ByAttribute,Nadir,Viewpoint,Seamline,None</AllowedMosaicMethods>
<AllowedCompressions Sync="TRUE">None,JPEG,LZ77,LERC</AllowedCompressions>
<AllowedMensurationCapabilities Sync="TRUE">None</AllowedMensurationCapabilities>
<AvailableMensurationCapabilities Sync="TRUE">None,Basic,Base-Top Height,Top-Top Shadow Height,Base-Top Shadow Height,3D</AvailableMensurationCapabilities>
<ClipToBoundary Sync="TRUE">-1</ClipToBoundary>
<FootprintMayContainNoData Sync="TRUE">-1</FootprintMayContainNoData>
<CellSizeTolerance Sync="TRUE">0.8</CellSizeTolerance>
<MinimumPixelContribution Sync="TRUE">1</MinimumPixelContribution>
<AvailableMosaicMethods Sync="TRUE">NorthWest,Center,LockRaster,ByAttribute,Nadir,Viewpoint,Seamline,None</AvailableMosaicMethods>
<AvailableCompressionMethods Sync="TRUE">None,JPEG,LZ77,LERC</AvailableCompressionMethods>
<AvailableItemMetadataLevels Sync="TRUE">None,Basic,Full</AvailableItemMetadataLevels>
<BandDefinitionKeyword Sync="TRUE">NONE</BandDefinitionKeyword>
<_docversion_ Sync="TRUE">10</_docversion_>
<AllowedFields Sync="TRUE">Name,MinPS,MaxPS,LowPS,HighPS,Tag,GroupName,ProductName,CenterX,CenterY,ZOrder,Shape_Length,Shape_Area</AllowedFields>
<MaxCellSize Sync="TRUE">43200</MaxCellSize>
<LowCellSize Sync="TRUE">0.199999999999975</LowCellSize>
<HighCellSize Sync="TRUE">864</HighCellSize>
<PixelCacheLocation Sync="TRUE">C:\Users\Laura.Lopez\AppData\Local\ESRI\rasterproxies\MDS_1m</PixelCacheLocation>
<ClipToFootprint Sync="TRUE">-1</ClipToFootprint>
<TimeStamp.RemoveItems Sync="TRUE">45182.761338588</TimeStamp.RemoveItems>
<TimeStamp.UpdateExtent Sync="TRUE">45182.7380277662</TimeStamp.UpdateExtent>
</Properties>
<Functions Sync="TRUE">
<Function Description="Performs on-the-fly mosaic on a raster catalog." Name="Mosaic Function"/>
</Functions>
</RasterProperties>
</DataProperties>
<SyncDate>20230913</SyncDate>
<SyncTime>14515100</SyncTime>
<ModDate>20230913</ModDate>
<ModTime>14562400</ModTime>
<scaleRange>
<minScale>150000000</minScale>
<maxScale>5000</maxScale>
</scaleRange>
<ArcGISProfile>ISO19139</ArcGISProfile>
</Esri>
<dataIdInfo>
<envirDesc Sync="TRUE"> Version 6.2 (Build 9200) ; Esri ArcGIS 10.9.1.28388</envirDesc>
<dataLang>
<languageCode Sync="TRUE" value="eng"/>
<countryCode Sync="TRUE" value="USA"/>
</dataLang>
<idCitation>
<resTitle Sync="TRUE">MDS_1m</resTitle>
<presForm>
<PresFormCd Sync="TRUE" value="005"/>
</presForm>
<date>
<createDate>2023-08-09T00:00:00</createDate>
</date>
<citRespParty>
<rpIndName>Grupo Sistema Información Ambiental</rpIndName>
<rpOrgName>Corporación Autónoma Regional del Valle del Cauca-CVC</rpOrgName>
<rpPosName>Coordinador</rpPosName>
<role>
<RoleCd value="002"/>
</role>
<rpCntInfo>
<cntAddress addressType="physical">
<delPoint>Carrera 56 # 11-36</delPoint>
<city>Cali</city>
<adminArea>Valle del Cauca</adminArea>
<postCode>760033</postCode>
<eMailAdd>https://pqrweb.cvc.gov.co/</eMailAdd>
<country>CO</country>
</cntAddress>
<cntPhone>
<voiceNum tddtty="">57(2)6206600</voiceNum>
<faxNum>57 (2)3396168</faxNum>
</cntPhone>
<cntHours>Atención de lunes a viernes de 8:00 a.m. a 12:30 p.m y 1:30 a 5:30 p.m.</cntHours>
<cntInstr>Para realizar consultas sobre el recurso comunique telefónicamente dentro del horario de atención establecido.</cntInstr>
</rpCntInfo>
</citRespParty>
</idCitation>
<spatRpType>
<SpatRepTypCd Sync="TRUE" value="002"/>
</spatRpType>
<dataExt>
<geoEle>
<GeoBndBox esriExtentType="search">
<exTypeCode Sync="TRUE">1</exTypeCode>
<westBL Sync="TRUE">-77.426523</westBL>
<eastBL Sync="TRUE">-75.727127</eastBL>
<northBL Sync="TRUE">4.925886</northBL>
<southBL Sync="TRUE">2.759286</southBL>
</GeoBndBox>
</geoEle>
<exDesc>Centro Poblado , Valle del Cauca</exDesc>
</dataExt>
<idPurp>DSM sobre centros poblados y cabeceras corregimentales del Valle del Cauca. En el marco del Plan de Acción 2019-2023 Proyecto 1001 "Caracterización del suelo y formulación de alternativas para la restauración de coberturas y uso sostenible Actividad 026: "Restitución cartográfica de cabeceras municipales y corregimentales para el ajuste de la zonificación ambiental de la Reserva Forestal Central y del Pacífico de la Ley 2 de 1959 y en el Proyecto 5001 "Caracterización de la ocupación del territorio y formulación de propuestas para su desarrollo sostenible" Actividad 002: "Restitución cartográfica de las áreas urbanas y cabeceras corregimentales para el ordenamiento territorial de los municipios priorizados".</idPurp>
<idAbs>&lt;div style='text-align:Left;'&gt;&lt;div&gt;&lt;div&gt;&lt;p&gt;&lt;span&gt;D&lt;/span&gt;&lt;span&gt;S&lt;/span&gt;&lt;span&gt;M que comprende el área geográfica determinada sobre &lt;/span&gt;&lt;span&gt;centros poblado&lt;/span&gt;&lt;span&gt;s&lt;/span&gt;&lt;span&gt;y cabeceras corregimentales &lt;/span&gt;&lt;span&gt;en el Departamento de Valle del Cauca, obtenido&lt;/span&gt;&lt;span&gt;s&lt;/span&gt;&lt;span&gt; a partir de &lt;/span&gt;&lt;span&gt;tecnologia&lt;/span&gt;&lt;span&gt; Lidar con una resolucion de 1 metro,&lt;/span&gt;&lt;span&gt; &lt;/span&gt;&lt;span&gt;escala 1:1.000.&lt;/span&gt;&lt;/p&gt;&lt;/div&gt;&lt;/div&gt;&lt;/div&gt;</idAbs>
<idCredit>Contrato CVC No. 0403 de 2012. INGEOVISTA Ltda. Restitución cartográfica para el Ordenamiento Territorial y la zonificación de amenazas y escenarios de riesgo por movimientos en masa, inundaciones y avenidas torrenciales en cabeceras municipales del Valle del Cauca – Fase I.Contrato CVC No. 0645 de 2020. INCIGE. Restitución cartográfica de cabeceras municipales y corregimentales para procesos de gestión del riesgo, ordenamiento territorial y ajuste de la zonificación ambiental de la reserva forestal central y del pacífico de la ley 2da de 1959 en el valle del cauca, para el fortalecimiento del sistema de información corporativo.</idCredit>
<searchKeys>
<keyword>Modelo Digital de Superficie</keyword>
<keyword>DSM</keyword>
<keyword>MDS</keyword>
<keyword>Valle del Cauca</keyword>
<keyword>Centro Poblado</keyword>
<keyword>Corregimiento</keyword>
</searchKeys>
<dataChar>
<CharSetCd value="004"/>
</dataChar>
<idPoC>
<rpIndName>Grupo Sistema Información Ambiental</rpIndName>
<rpOrgName>Corporación Autónoma Regional del Valle del Cauca-CVC</rpOrgName>
<rpPosName>Coordinador</rpPosName>
<role>
<RoleCd value="002"/>
</role>
<rpCntInfo>
<cntAddress addressType="physical">
<delPoint>Carrera 56 # 11-36</delPoint>
<city>Cali</city>
<adminArea>Valle del Cauca</adminArea>
<postCode>760033</postCode>
<eMailAdd>https://pqrweb.cvc.gov.co/</eMailAdd>
<country>CO</country>
</cntAddress>
<cntPhone>
<voiceNum tddtty="">57(2)6206600</voiceNum>
<faxNum>57 (2)3396168</faxNum>
</cntPhone>
<cntHours>Atención de lunes a viernes de 8:00 a.m. a 12:30 p.m y 1:30 a 5:30 p.m.</cntHours>
<cntInstr>Para realizar consultas sobre el recurso comunique telefónicamente dentro del horario de atención establecido.</cntInstr>
</rpCntInfo>
<displayName>Grupo Sistema Información Ambiental</displayName>
</idPoC>
<resMaint>
<maintFreq>
<MaintFreqCd value="009"/>
</maintFreq>
</resMaint>
<tpCat>
<TopicCatCd value="010"/>
</tpCat>
<resConst>
<Consts>
<useLimit/>
</Consts>
</resConst>
</dataIdInfo>
<mdLang>
<languageCode Sync="TRUE" value="eng"/>
<countryCode Sync="TRUE" value="USA"/>
</mdLang>
<refSysInfo>
<RefSystem dimension="">
<refSysID>
<identCode Sync="TRUE" code="3115"/>
<idCodeSpace Sync="TRUE">EPSG</idCodeSpace>
<idVersion Sync="TRUE">6.13(9.2.0)</idVersion>
</refSysID>
</RefSystem>
</refSysInfo>
<spatRepInfo>
<Georect>
<cellGeo>
<CellGeoCd Sync="TRUE" value="002"/>
</cellGeo>
<numDims Sync="TRUE">2</numDims>
<tranParaAv Sync="TRUE">1</tranParaAv>
<chkPtAv Sync="TRUE">0</chkPtAv>
<cornerPts>
<pos Sync="TRUE">961290.100000 796960.700000</pos>
</cornerPts>
<cornerPts>
<pos Sync="TRUE">961290.100000 1036457.300000</pos>
</cornerPts>
<cornerPts>
<pos Sync="TRUE">1149786.300000 1036457.300000</pos>
</cornerPts>
<cornerPts>
<pos Sync="TRUE">1149786.300000 796960.700000</pos>
</cornerPts>
<centerPt>
<pos Sync="TRUE">1055538.200000 916709.000000</pos>
</centerPt>
<axisDimension type="002">
<dimSize Sync="TRUE">942481</dimSize>
<dimResol>
<value Sync="TRUE" uom="m">0.200000</value>
</dimResol>
</axisDimension>
<axisDimension type="001">
<dimSize Sync="TRUE">1197483</dimSize>
<dimResol>
<value Sync="TRUE" uom="m">0.200000</value>
</dimResol>
</axisDimension>
<ptInPixel>
<PixOrientCd Sync="TRUE" value="001"/>
</ptInPixel>
</Georect>
</spatRepInfo>
<contInfo>
<ImgDesc>
<contentTyp>
<ContentTypCd Sync="TRUE" value="001"/>
</contentTyp>
<covDim>
<Band>
<dimDescrp Sync="TRUE">Band_1</dimDescrp>
<bitsPerVal Sync="TRUE">32</bitsPerVal>
<valUnit>
<UOM type="length"/>
</valUnit>
<maxVal Sync="TRUE">1662.822952</maxVal>
<minVal Sync="TRUE">1394.041061</minVal>
</Band>
</covDim>
</ImgDesc>
</contInfo>
<mdDateSt Sync="TRUE">20230913</mdDateSt>
<mdHrLv>
<ScopeCd value="005"/>
</mdHrLv>
<mdFileID>A202E8B8-6884-4612-97F3-39D434067DE1</mdFileID>
<mdParentID>No aplica</mdParentID>
<mdChar>
<CharSetCd value="004"/>
</mdChar>
<dataSetURI>No aplica</dataSetURI>
<mdContact>
<rpIndName>Grupo Sistema Información Ambiental</rpIndName>
<rpOrgName>Corporación Autónoma Regional del Valle del Cauca-CVC</rpOrgName>
<rpPosName>Coordinador</rpPosName>
<role>
<RoleCd value="002"/>
</role>
<rpCntInfo>
<cntAddress addressType="physical">
<delPoint>Carrera 56 # 11-36</delPoint>
<city>Cali</city>
<adminArea>Valle del Cauca</adminArea>
<postCode>760033</postCode>
<eMailAdd>https://pqrweb.cvc.gov.co/</eMailAdd>
<country>CO</country>
</cntAddress>
<cntPhone>
<voiceNum tddtty="">57(2)6206600</voiceNum>
<faxNum>57 (2)3396168</faxNum>
</cntPhone>
<cntHours>Atención de lunes a viernes de 8:00 a.m. a 12:30 p.m y 1:30 a 5:30 p.m.</cntHours>
<cntInstr>Para realizar consultas sobre el recurso comunique telefónicamente dentro del horario de atención establecido.</cntInstr>
</rpCntInfo>
<displayName>Grupo Sistema Información Ambiental</displayName>
</mdContact>
<mdMaint>
<maintFreq>
<MaintFreqCd value="009"/>
</maintFreq>
</mdMaint>
</metadata>
