<?xml version="1.0" encoding="UTF-8"?>
<Capabilities xmlns="http://www.opengis.net/wmts/1.0"
xmlns:ows="http://www.opengis.net/ows/1.1"
xmlns:xlink="http://www.w3.org/1999/xlink"
xmlns:xsi="http://www.w3.org/2001/XMLSchema-instance"
xmlns:gml="http://www.opengis.net/gml"
xsi:schemaLocation="http://www.opengis.net/wmts/1.0 http://schemas.opengis.net/wmts/1.0/wmtsGetCapabilities_response.xsd"
version="1.0.0">
<!-- Service Identification --> <ows:ServiceIdentification>
<ows:Title>Hosted_EscenaPerfil_v2_WTL1</ows:Title>
<ows:ServiceType>OGC WMTS</ows:ServiceType>
<ows:ServiceTypeVersion>1.0.0</ows:ServiceTypeVersion>
</ows:ServiceIdentification> <!-- Operations Metadata --> <ows:OperationsMetadata>
<ows:Operation name="GetCapabilities">
<ows:DCP>
<ows:HTTP>
<ows:Get xlink:href="https://geo.cvc.gov.co/arcgis/rest/services/Hosted/EscenaPerfil_v2_WTL1/MapServer/WMTS/1.0.0/WMTSCapabilities.xml">
<ows:Constraint name="GetEncoding">
<ows:AllowedValues>
<ows:Value>RESTful</ows:Value>
</ows:AllowedValues>
</ows:Constraint>
</ows:Get>
<!-- add KVP binding in 10.1 -->
<ows:Get xlink:href="https://geo.cvc.gov.co/arcgis/rest/services/Hosted/EscenaPerfil_v2_WTL1/MapServer/WMTS?">
<ows:Constraint name="GetEncoding">
<ows:AllowedValues>
<ows:Value>KVP</ows:Value>
</ows:AllowedValues>
</ows:Constraint>
</ows:Get>
</ows:HTTP>
</ows:DCP>
</ows:Operation>
<ows:Operation name="GetTile">
<ows:DCP>
<ows:HTTP>
<ows:Get xlink:href="https://geo.cvc.gov.co/arcgis/rest/services/Hosted/EscenaPerfil_v2_WTL1/MapServer/WMTS/tile/1.0.0/">
<ows:Constraint name="GetEncoding">
<ows:AllowedValues>
<ows:Value>RESTful</ows:Value>
</ows:AllowedValues>
</ows:Constraint>
</ows:Get>
<ows:Get xlink:href="https://geo.cvc.gov.co/arcgis/rest/services/Hosted/EscenaPerfil_v2_WTL1/MapServer/WMTS?">
<ows:Constraint name="GetEncoding">
<ows:AllowedValues>
<ows:Value>KVP</ows:Value>
</ows:AllowedValues>
</ows:Constraint>
</ows:Get>
</ows:HTTP>
</ows:DCP>
</ows:Operation>
</ows:OperationsMetadata> <Contents>
<!--Layer--> <Layer>
<ows:Title>Hosted_EscenaPerfil_v2_WTL1</ows:Title> <ows:Identifier>Hosted_EscenaPerfil_v2_WTL1</ows:Identifier>
<ows:BoundingBox crs="urn:ogc:def:crs:EPSG::3115">
<ows:LowerCorner>771755.0 946440.0</ows:LowerCorner>
<ows:UpperCorner>1049590.0 1153060.0</ows:UpperCorner>
</ows:BoundingBox> <ows:WGS84BoundingBox crs="urn:ogc:def:crs:OGC:2:84">
<ows:LowerCorner>-77.56049822156328 2.5313703352558825</ows:LowerCorner>
<ows:UpperCorner>-75.6973710231382 5.044645379728272</ows:UpperCorner>
</ows:WGS84BoundingBox>
<Style isDefault="true">
<ows:Title>Default Style</ows:Title>
<ows:Identifier>default</ows:Identifier>
</Style>
<Format>image/jpgpng</Format>
<TileMatrixSetLink>
<TileMatrixSet>default028mm</TileMatrixSet>
</TileMatrixSetLink>
<ResourceURL format="image/jpgpng" resourceType="tile" template="https://geo.cvc.gov.co/arcgis/rest/services/Hosted/EscenaPerfil_v2_WTL1/MapServer/WMTS/tile/1.0.0/Hosted_EscenaPerfil_v2_WTL1/{Style}/{TileMatrixSet}/{TileMatrix}/{TileRow}/{TileCol}" />
</Layer> <!--TileMatrixSet-->
<TileMatrixSet>
<ows:Title>TileMatrix using 0.28mm</ows:Title>
<ows:Abstract>The tile matrix set that has scale values calculated based on the dpi defined by OGC specification (dpi assumes 0.28mm as the physical distance of a pixel).</ows:Abstract> <ows:Identifier>default028mm</ows:Identifier>
<ows:SupportedCRS>urn:ogc:def:crs:EPSG::3115</ows:SupportedCRS>
<TileMatrix>
<ows:Identifier>0</ows:Identifier>
<ScaleDenominator>2.790726765967293E8</ScaleDenominator>
<TopLeftCorner>1.0493732263596196E7 -9001964.729228035</TopLeftCorner> <TileWidth>256</TileWidth> <TileHeight>256</TileHeight>
<MatrixWidth>1</MatrixWidth> <MatrixHeight>1</MatrixHeight>
</TileMatrix>
<TileMatrix>
<ows:Identifier>1</ows:Identifier>
<ScaleDenominator>1.3953633829836464E8</ScaleDenominator>
<TopLeftCorner>1.0493732263596196E7 -9001964.729228035</TopLeftCorner> <TileWidth>256</TileWidth> <TileHeight>256</TileHeight>
<MatrixWidth>2</MatrixWidth> <MatrixHeight>1</MatrixHeight>
</TileMatrix>
<TileMatrix>
<ows:Identifier>2</ows:Identifier>
<ScaleDenominator>6.976816914918232E7</ScaleDenominator>
<TopLeftCorner>1.0493732263596196E7 -9001964.729228035</TopLeftCorner> <TileWidth>256</TileWidth> <TileHeight>256</TileHeight>
<MatrixWidth>3</MatrixWidth> <MatrixHeight>2</MatrixHeight>
</TileMatrix>
<TileMatrix>
<ows:Identifier>3</ows:Identifier>
<ScaleDenominator>3.488408457459116E7</ScaleDenominator>
<TopLeftCorner>1.0493732263596196E7 -9001964.729228035</TopLeftCorner> <TileWidth>256</TileWidth> <TileHeight>256</TileHeight>
<MatrixWidth>5</MatrixWidth> <MatrixHeight>4</MatrixHeight>
</TileMatrix>
<TileMatrix>
<ows:Identifier>4</ows:Identifier>
<ScaleDenominator>1.744204228729558E7</ScaleDenominator>
<TopLeftCorner>1.0493732263596196E7 -9001964.729228035</TopLeftCorner> <TileWidth>256</TileWidth> <TileHeight>256</TileHeight>
<MatrixWidth>9</MatrixWidth> <MatrixHeight>8</MatrixHeight>
</TileMatrix>
<TileMatrix>
<ows:Identifier>5</ows:Identifier>
<ScaleDenominator>8721021.14364779</ScaleDenominator>
<TopLeftCorner>1.0493732263596196E7 -9001964.729228035</TopLeftCorner> <TileWidth>256</TileWidth> <TileHeight>256</TileHeight>
<MatrixWidth>17</MatrixWidth> <MatrixHeight>16</MatrixHeight>
</TileMatrix>
<TileMatrix>
<ows:Identifier>6</ows:Identifier>
<ScaleDenominator>4360510.571823895</ScaleDenominator>
<TopLeftCorner>1.0493732263596196E7 -9001964.729228035</TopLeftCorner> <TileWidth>256</TileWidth> <TileHeight>256</TileHeight>
<MatrixWidth>33</MatrixWidth> <MatrixHeight>32</MatrixHeight>
</TileMatrix>
<TileMatrix>
<ows:Identifier>7</ows:Identifier>
<ScaleDenominator>2180255.2859119475</ScaleDenominator>
<TopLeftCorner>1.0493732263596196E7 -9001964.729228035</TopLeftCorner> <TileWidth>256</TileWidth> <TileHeight>256</TileHeight>
<MatrixWidth>65</MatrixWidth> <MatrixHeight>63</MatrixHeight>
</TileMatrix>
<TileMatrix>
<ows:Identifier>8</ows:Identifier>
<ScaleDenominator>1090127.6429559737</ScaleDenominator>
<TopLeftCorner>1.0493732263596196E7 -9001964.729228035</TopLeftCorner> <TileWidth>256</TileWidth> <TileHeight>256</TileHeight>
<MatrixWidth>130</MatrixWidth> <MatrixHeight>125</MatrixHeight>
</TileMatrix>
<TileMatrix>
<ows:Identifier>9</ows:Identifier>
<ScaleDenominator>545063.8214779869</ScaleDenominator>
<TopLeftCorner>1.0493732263596196E7 -9001964.729228035</TopLeftCorner> <TileWidth>256</TileWidth> <TileHeight>256</TileHeight>
<MatrixWidth>260</MatrixWidth> <MatrixHeight>249</MatrixHeight>
</TileMatrix>
<TileMatrix>
<ows:Identifier>10</ows:Identifier>
<ScaleDenominator>272531.91073899344</ScaleDenominator>
<TopLeftCorner>1.0493732263596196E7 -9001964.729228035</TopLeftCorner> <TileWidth>256</TileWidth> <TileHeight>256</TileHeight>
<MatrixWidth>520</MatrixWidth> <MatrixHeight>498</MatrixHeight>
</TileMatrix>
<TileMatrix>
<ows:Identifier>11</ows:Identifier>
<ScaleDenominator>136265.95536949672</ScaleDenominator>
<TopLeftCorner>1.0493732263596196E7 -9001964.729228035</TopLeftCorner> <TileWidth>256</TileWidth> <TileHeight>256</TileHeight>
<MatrixWidth>1040</MatrixWidth> <MatrixHeight>996</MatrixHeight>
</TileMatrix>
<TileMatrix>
<ows:Identifier>12</ows:Identifier>
<ScaleDenominator>68132.97768474836</ScaleDenominator>
<TopLeftCorner>1.0493732263596196E7 -9001964.729228035</TopLeftCorner> <TileWidth>256</TileWidth> <TileHeight>256</TileHeight>
<MatrixWidth>2080</MatrixWidth> <MatrixHeight>1991</MatrixHeight>
</TileMatrix>
<TileMatrix>
<ows:Identifier>13</ows:Identifier>
<ScaleDenominator>34066.48884237418</ScaleDenominator>
<TopLeftCorner>1.0493732263596196E7 -9001964.729228035</TopLeftCorner> <TileWidth>256</TileWidth> <TileHeight>256</TileHeight>
<MatrixWidth>4159</MatrixWidth> <MatrixHeight>3982</MatrixHeight>
</TileMatrix>
<TileMatrix>
<ows:Identifier>14</ows:Identifier>
<ScaleDenominator>17033.24442118709</ScaleDenominator>
<TopLeftCorner>1.0493732263596196E7 -9001964.729228035</TopLeftCorner> <TileWidth>256</TileWidth> <TileHeight>256</TileHeight>
<MatrixWidth>8318</MatrixWidth> <MatrixHeight>7963</MatrixHeight>
</TileMatrix>
<TileMatrix>
<ows:Identifier>15</ows:Identifier>
<ScaleDenominator>8516.622210593545</ScaleDenominator>
<TopLeftCorner>1.0493732263596196E7 -9001964.729228035</TopLeftCorner> <TileWidth>256</TileWidth> <TileHeight>256</TileHeight>
<MatrixWidth>16635</MatrixWidth> <MatrixHeight>15926</MatrixHeight>
</TileMatrix>
<TileMatrix>
<ows:Identifier>16</ows:Identifier>
<ScaleDenominator>4258.311105296772</ScaleDenominator>
<TopLeftCorner>1.0493732263596196E7 -9001964.729228035</TopLeftCorner> <TileWidth>256</TileWidth> <TileHeight>256</TileHeight>
<MatrixWidth>33270</MatrixWidth> <MatrixHeight>31851</MatrixHeight>
</TileMatrix>
<TileMatrix>
<ows:Identifier>17</ows:Identifier>
<ScaleDenominator>2129.155552648386</ScaleDenominator>
<TopLeftCorner>1.0493732263596196E7 -9001964.729228035</TopLeftCorner> <TileWidth>256</TileWidth> <TileHeight>256</TileHeight>
<MatrixWidth>66539</MatrixWidth> <MatrixHeight>63702</MatrixHeight>
</TileMatrix>
<TileMatrix>
<ows:Identifier>18</ows:Identifier>
<ScaleDenominator>1064.577776324193</ScaleDenominator>
<TopLeftCorner>1.0493732263596196E7 -9001964.729228035</TopLeftCorner> <TileWidth>256</TileWidth> <TileHeight>256</TileHeight>
<MatrixWidth>133078</MatrixWidth> <MatrixHeight>127403</MatrixHeight>
</TileMatrix>
</TileMatrixSet>
</Contents>
<ServiceMetadataURL xlink:href="https://geo.cvc.gov.co/arcgis/rest/services/Hosted/EscenaPerfil_v2_WTL1/MapServer/WMTS/1.0.0/WMTSCapabilities.xml" /> </Capabilities>
